BEGIN:VCALENDAR
VERSION:2.0
PRODID:spatie/icalendar-generator
DESCRIPTION:Events from AVC Online Presents The Video Game Summit
X-WR-CALDESC:Events from AVC Online Presents The Video Game Summit
REFRESH-INTERVAL;VALUE=DURATION:PT1440M
X-PUBLISHED-TTL:PT1440M
BEGIN:VTIMEZONE
TZID:America/Chicago
BEGIN:STANDARD
DTSTART:20241103T020000Z
TZOFFSETFROM:-0500
TZOFFSETTO:-0600
END:STANDARD
BEGIN:DAYLIGHT
DTSTART:20250309T020000Z
TZOFFSETFROM:-0600
TZOFFSETTO:-0500
END:DAYLIGHT
BEGIN:STANDARD
DTSTART:20251102T020000Z
TZOFFSETFROM:-0500
TZOFFSETTO:-0600
END:STANDARD
END:VTIMEZONE
BEGIN:VTIMEZONE
TZID:UTC
BEGIN:STANDARD
DTSTART:20250726T105553Z
TZOFFSETFROM:+0000
TZOFFSETTO:+0000
END:STANDARD
END:VTIMEZONE
BEGIN:VEVENT
UID:45-6
DTSTAMP:20260422T105553Z
SUMMARY:AVC Games High Score Contest:Arcade Challenge: Spiders Arcade
LOCATION:
ORGANIZER;CN=DanAVC:MAILTO:danhere@comcast.net
DTSTART;TZID=America/Chicago:20250712T100000
DTEND;TZID=America/Chicago:20250712T160000
X-ALT-DESC;FMTTYPE=TEXT/HTML:<p><strong>AVC  Games the online version now i
 ncludes 7800 games<br /> This year we continuing the tradition of using Ch
 amp Games ports for VGS 2025\, this year the Arcade Challenge game is Spid
 ers Arcade (port of Spiders)</strong></p>\n<p> <strong> The Rules: set at 
 1 player and ends at after 8 rounds\, best score wins a Award Certificate 
 and  a code for download a copy of the full game from Champ Games.<br />\n
 Tournament hours is from 10am to 4pm at the Game Area  winners must be pre
 sent at 4pm we will announce the winners. </strong></p>\n
CATEGORIES:tournament
URL;VALUE=URI:http://videogamesummit.net/mc-events/avc-games-high-score-con
 testarcade-challenge-spiders-arcade/
METHOD:PUBLISH
END:VEVENT
END:VCALENDAR