BEGIN:VCALENDAR
VERSION:2.0
PRODID:spatie/icalendar-generator
DESCRIPTION:Events from AVC Online Presents The Video Game Summit
X-WR-CALDESC:Events from AVC Online Presents The Video Game Summit
REFRESH-INTERVAL;VALUE=DURATION:PT1440M
X-PUBLISHED-TTL:PT1440M
BEGIN:VTIMEZONE
TZID:America/Chicago
BEGIN:STANDARD
DTSTART:20241103T020000Z
TZOFFSETFROM:-0500
TZOFFSETTO:-0600
END:STANDARD
BEGIN:DAYLIGHT
DTSTART:20250309T020000Z
TZOFFSETFROM:-0600
TZOFFSETTO:-0500
END:DAYLIGHT
BEGIN:STANDARD
DTSTART:20251102T020000Z
TZOFFSETFROM:-0500
TZOFFSETTO:-0600
END:STANDARD
END:VTIMEZONE
BEGIN:VTIMEZONE
TZID:UTC
BEGIN:STANDARD
DTSTART:20250724T085818Z
TZOFFSETFROM:+0000
TZOFFSETTO:+0000
END:STANDARD
END:VTIMEZONE
BEGIN:VEVENT
UID:44-5
DTSTAMP:20260420T085818Z
SUMMARY:PAUL ZIMMERMAN’S ATARIMANIA: KABOOM! 44 Year Anniversary
LOCATION:
ORGANIZER;CN=DanAVC:MAILTO:danhere@comcast.net
DTSTART;TZID=America/Chicago:20250712T100000
DTEND;TZID=America/Chicago:20250712T170000
X-ALT-DESC;FMTTYPE=TEXT/HTML:<p><strong>Set a high score on Kaboom! by Acti
 vision for the Atari 2600.  Grand prize is Casey’s Gold for Atari 2600\,
  donated by the game designer Dan Kitchen!</strong></p>\n<p><strong> The t
 ournament is FREE to enter with your paid Video Game Summit admission and 
 gamers of all skill and experience levels are encouraged to participate. <br /> You can play as many times as you want with your highest score stand
 ing.  Player must alternate turns with other players.<br />If you want to 
 compete\, notify Paul Zimmerman at his booth – first row from the entran
 ce next to Audacity booth.  Grand prize will be given at 5pm.  The winner 
 must be in attendance to receive the prize.<br />\nThanks and good luck!!<br />\nPaul “world champion\, video game trading card #1” Zimmerman</s></p>\n
CATEGORIES:tournament
URL;VALUE=URI:http://videogamesummit.net/mc-events/paul-zimmermans-atariman
 ia-kaboom-44-year-anniversary/
METHOD:PUBLISH
END:VEVENT
END:VCALENDAR